BEGIN:VCALENDAR
VERSION:2.0
PRODID:-//Langside Badminton League - ECPv6.15.20//NONSGML v1.0//EN
CALSCALE:GREGORIAN
METHOD:PUBLISH
X-WR-CALNAME:Langside Badminton League
X-ORIGINAL-URL:https://langsidebadminton.co.uk
X-WR-CALDESC:Events for Langside Badminton League
REFRESH-INTERVAL;VALUE=DURATION:PT1H
X-Robots-Tag:noindex
X-PUBLISHED-TTL:PT1H
BEGIN:VTIMEZONE
TZID:UTC
BEGIN:STANDARD
TZOFFSETFROM:+0000
TZOFFSETTO:+0000
TZNAME:UTC
DTSTART:20250101T000000
END:STANDARD
END:VTIMEZONE
BEGIN:VEVENT
DTSTART;TZID=UTC:20260211T191500
DTEND;TZID=UTC:20260211T191500
DTSTAMP:20260424T183031
CREATED:20250824T180309Z
LAST-MODIFIED:20250824T180309Z
UID:2628-1770837300-1770837300@langsidebadminton.co.uk
SUMMARY:Women's: Old Parish/Eaglesham v Orchardhill
DESCRIPTION:
URL:https://langsidebadminton.co.uk/event/womens-old-parish-eaglesham-v-orchardhill-2
LOCATION:Old Parish Church\, 43 Glebe Street\, East Kilbride\, G74 4LY\, United Kingdom
CATEGORIES:Eaglesham/Old Parish Ladies,Orchardhill Ladies,Women's
ORGANIZER;CN="Langside Badminton League":MAILTO:contact@langsidebadminton.co.uk
END:VEVENT
END:VCALENDAR