BEGIN:VCALENDAR
VERSION:2.0
PRODID:-//Langside Badminton League - ECPv6.15.20//NONSGML v1.0//EN
CALSCALE:GREGORIAN
METHOD:PUBLISH
X-WR-CALNAME:Langside Badminton League
X-ORIGINAL-URL:https://langsidebadminton.co.uk
X-WR-CALDESC:Events for Langside Badminton League
REFRESH-INTERVAL;VALUE=DURATION:PT1H
X-Robots-Tag:noindex
X-PUBLISHED-TTL:PT1H
BEGIN:VTIMEZONE
TZID:UTC
BEGIN:STANDARD
TZOFFSETFROM:+0000
TZOFFSETTO:+0000
TZNAME:UTC
DTSTART:20220101T000000
END:STANDARD
END:VTIMEZONE
BEGIN:VEVENT
DTSTART;TZID=UTC:20250130T190000
DTEND;TZID=UTC:20250130T190000
DTSTAMP:20260422T110040
CREATED:20241129T154600Z
LAST-MODIFIED:20241129T154600Z
UID:2462-1738263600-1738263600@langsidebadminton.co.uk
SUMMARY:Henderson Cup SF: Orchardhill v Shawlands Trinity
DESCRIPTION:
URL:https://langsidebadminton.co.uk/event/henderson-cup-sf-orchardhill-v-shawlands-trinity
LOCATION:Orchardhill Parish Church\, Memorial Halls\, 12 Church Road\, Giffnock\, East Renfrewshire\, G46 6JR\, United Kingdom
CATEGORIES:Cup,Henderson Cup,Orchardhill,Shawlands Trinity
ORGANIZER;CN="Langside Badminton League":MAILTO:contact@langsidebadminton.co.uk
END:VEVENT
BEGIN:VEVENT
DTSTART;TZID=UTC:20250128T190000
DTEND;TZID=UTC:20250128T190000
DTSTAMP:20260422T110040
CREATED:20241129T154505Z
LAST-MODIFIED:20241129T154505Z
UID:2460-1738090800-1738090800@langsidebadminton.co.uk
SUMMARY:Henderson Cup SF: Greenbank v Old Parish
DESCRIPTION:
URL:https://langsidebadminton.co.uk/event/henderson-cup-sf-greenbank-v-old-parish
LOCATION:Greenbank Parish Church\, Giffnock South Parish Church\, 2 Greenhill Ave\, Giffnock\, G46 6QX\, United Kingdom
CATEGORIES:Cup,Greenbank,Henderson Cup,Old Parish
ORGANIZER;CN="Langside Badminton League":MAILTO:contact@langsidebadminton.co.uk
END:VEVENT
BEGIN:VEVENT
DTSTART;TZID=UTC:20250128T190000
DTEND;TZID=UTC:20250128T190000
DTSTAMP:20260422T110040
CREATED:20241129T154313Z
LAST-MODIFIED:20241129T154313Z
UID:2456-1738090800-1738090800@langsidebadminton.co.uk
SUMMARY:Southern Trophy SF: Newlands South v Eaglesham
DESCRIPTION:
URL:https://langsidebadminton.co.uk/event/southern-trophy-sf-newlands-south-v-eaglesham
LOCATION:Newlands South Parish Church\, McMillan Hall\, 37 Riverside Road\, Newlands\, G43 2EG\, United Kingdom
CATEGORIES:Cup,Eaglesham,Newlands South,Southern Trophy
ORGANIZER;CN="Langside Badminton League":MAILTO:contact@langsidebadminton.co.uk
END:VEVENT
BEGIN:VEVENT
DTSTART;TZID=UTC:20250114T190000
DTEND;TZID=UTC:20250114T190000
DTSTAMP:20260422T110040
CREATED:20240818T151021Z
LAST-MODIFIED:20240818T151021Z
UID:2315-1736881200-1736881200@langsidebadminton.co.uk
SUMMARY:2nd Mixed: Newlands v Shawlands
DESCRIPTION:
URL:https://langsidebadminton.co.uk/event/2nd-mixed-newlands-v-shawlands
LOCATION:Newlands South Parish Church\, McMillan Hall\, 37 Riverside Road\, Newlands\, G43 2EG\, United Kingdom
CATEGORIES:2nd Mixed Division,Newlands South,Shawlands Trinity
ORGANIZER;CN="Langside Badminton League":MAILTO:contact@langsidebadminton.co.uk
END:VEVENT
BEGIN:VEVENT
DTSTART;TZID=UTC:20250114T190000
DTEND;TZID=UTC:20250114T190000
DTSTAMP:20260422T110040
CREATED:20240818T150929Z
LAST-MODIFIED:20240818T150929Z
UID:2313-1736881200-1736881200@langsidebadminton.co.uk
SUMMARY:2nd Mixed: Greenbank v Orchardhill
DESCRIPTION:
URL:https://langsidebadminton.co.uk/event/2nd-mixed-greenbank-v-orchardhill
LOCATION:Greenbank Parish Church\, Giffnock South Parish Church\, 2 Greenhill Ave\, Giffnock\, G46 6QX\, United Kingdom
CATEGORIES:2nd Mixed Division,Greenbank,Orchardhill
ORGANIZER;CN="Langside Badminton League":MAILTO:contact@langsidebadminton.co.uk
END:VEVENT
BEGIN:VEVENT
DTSTART;TZID=UTC:20250113T190000
DTEND;TZID=UTC:20250113T210000
DTSTAMP:20260422T110040
CREATED:20240818T145604Z
LAST-MODIFIED:20241005T094534Z
UID:2287-1736794800-1736802000@langsidebadminton.co.uk
SUMMARY:1st Mixed: Eaglesham v Old Parish
DESCRIPTION:
URL:https://langsidebadminton.co.uk/event/1st-mixed-eaglesham-v-old-parish-2
LOCATION:Alistair McCoist Complex\, Quarry Road\, East Kilbride\, G75 9LW\, United Kingdom
CATEGORIES:1st Mixed Division,Eaglesham,Old Parish
ORGANIZER;CN="Langside Badminton League":MAILTO:contact@langsidebadminton.co.uk
END:VEVENT
BEGIN:VEVENT
DTSTART;TZID=UTC:20241205T190000
DTEND;TZID=UTC:20241205T190000
DTSTAMP:20260422T110040
CREATED:20240818T150839Z
LAST-MODIFIED:20240818T150839Z
UID:2311-1733425200-1733425200@langsidebadminton.co.uk
SUMMARY:2nd Mixed: Orchardhill v Shawlands
DESCRIPTION:
URL:https://langsidebadminton.co.uk/event/2nd-mixed-orchardhill-v-shawlands
LOCATION:Orchardhill Parish Church\, Memorial Halls\, 12 Church Road\, Giffnock\, East Renfrewshire\, G46 6JR\, United Kingdom
CATEGORIES:2nd Mixed Division,Orchardhill,Shawlands Trinity
ORGANIZER;CN="Langside Badminton League":MAILTO:contact@langsidebadminton.co.uk
END:VEVENT
BEGIN:VEVENT
DTSTART;TZID=UTC:20241128T190000
DTEND;TZID=UTC:20241128T190000
DTSTAMP:20260422T110040
CREATED:20240817T192149Z
LAST-MODIFIED:20241120T083803Z
UID:2252-1732820400-1732820400@langsidebadminton.co.uk
SUMMARY:Southern Trophy QF: Orchardhill v Netherlee
DESCRIPTION:
URL:https://langsidebadminton.co.uk/event/southern-trophy-qf-orchardhill-v-netherlee
LOCATION:Orchardhill Parish Church\, Memorial Halls\, 12 Church Road\, Giffnock\, East Renfrewshire\, G46 6JR\, United Kingdom
CATEGORIES:Cup,Netherlee,Orchardhill,Southern Trophy
ORGANIZER;CN="Langside Badminton League":MAILTO:contact@langsidebadminton.co.uk
END:VEVENT
BEGIN:VEVENT
DTSTART;TZID=UTC:20241120T190000
DTEND;TZID=UTC:20241120T190000
DTSTAMP:20260422T110040
CREATED:20240817T192048Z
LAST-MODIFIED:20240817T192449Z
UID:2250-1732129200-1732129200@langsidebadminton.co.uk
SUMMARY:Southern Trophy QF: Old Parish v Newlands South
DESCRIPTION:
URL:https://langsidebadminton.co.uk/event/southern-trophy-qf-old-parish-v-newlands-south
LOCATION:Old Parish Church\, 43 Glebe Street\, East Kilbride\, G74 4LY\, United Kingdom
CATEGORIES:Cup,Newlands South,Old Parish,Southern Trophy
ORGANIZER;CN="Langside Badminton League":MAILTO:contact@langsidebadminton.co.uk
END:VEVENT
BEGIN:VEVENT
DTSTART;TZID=UTC:20241119T190000
DTEND;TZID=UTC:20241119T190000
DTSTAMP:20260422T110040
CREATED:20240817T191802Z
LAST-MODIFIED:20240817T192434Z
UID:2247-1732042800-1732042800@langsidebadminton.co.uk
SUMMARY:Southern Trophy QF: Greenbank v Eaglesham
DESCRIPTION:
URL:https://langsidebadminton.co.uk/event/southern-trophy-qf-greenbank-v-eaglesham
LOCATION:Greenbank Parish Church\, Giffnock South Parish Church\, 2 Greenhill Ave\, Giffnock\, G46 6QX\, United Kingdom
CATEGORIES:Cup,Eaglesham,Greenbank,Southern Trophy
ORGANIZER;CN="Langside Badminton League":MAILTO:contact@langsidebadminton.co.uk
END:VEVENT
BEGIN:VEVENT
DTSTART;TZID=UTC:20241116T143000
DTEND;TZID=UTC:20241116T143000
DTSTAMP:20260422T110040
CREATED:20240818T145226Z
LAST-MODIFIED:20241110T193711Z
UID:2279-1731767400-1731767400@langsidebadminton.co.uk
SUMMARY:1st Mixed: Netherlee v Old Parish
DESCRIPTION:
URL:https://langsidebadminton.co.uk/event/1st-mixed-netherlee-v-old-parish-2
LOCATION:Netherlee Parish Church\, Ormonde Avenue\, Netherlee\, G44 3SL\, United Kingdom
CATEGORIES:1st Mixed Division,Netherlee,Old Parish
ORGANIZER;CN="Langside Badminton League":MAILTO:contact@langsidebadminton.co.uk
END:VEVENT
BEGIN:VEVENT
DTSTART;TZID=UTC:20241105T190000
DTEND;TZID=UTC:20241105T190000
DTSTAMP:20260422T110040
CREATED:20240818T150603Z
LAST-MODIFIED:20240818T150603Z
UID:2305-1730833200-1730833200@langsidebadminton.co.uk
SUMMARY:2nd Mixed: Greenbank v Shawlands
DESCRIPTION:
URL:https://langsidebadminton.co.uk/event/2nd-mixed-greenbank-v-shawlands-2
LOCATION:Greenbank Parish Church\, Giffnock South Parish Church\, 2 Greenhill Ave\, Giffnock\, G46 6QX\, United Kingdom
CATEGORIES:2nd Mixed Division,Greenbank,Shawlands Trinity
ORGANIZER;CN="Langside Badminton League":MAILTO:contact@langsidebadminton.co.uk
END:VEVENT
BEGIN:VEVENT
DTSTART;TZID=UTC:20241007T190000
DTEND;TZID=UTC:20241007T190000
DTSTAMP:20260422T110040
CREATED:20240818T150518Z
LAST-MODIFIED:20240818T150518Z
UID:2303-1728327600-1728327600@langsidebadminton.co.uk
SUMMARY:2nd Mixed: Shawlands v Newlands
DESCRIPTION:
URL:https://langsidebadminton.co.uk/event/2nd-mixed-shawlands-v-newlands-2
LOCATION:Shawlands Trinity Parish Church\, 5 Moss-side Road\, Shawlands\, G41 3TP\, United Kingdom
CATEGORIES:2nd Mixed Division,Newlands South,Shawlands Trinity
ORGANIZER;CN="Langside Badminton League":MAILTO:contact@langsidebadminton.co.uk
END:VEVENT
BEGIN:VEVENT
DTSTART;TZID=UTC:20241003T190000
DTEND;TZID=UTC:20241003T190000
DTSTAMP:20260422T110040
CREATED:20240818T150428Z
LAST-MODIFIED:20240818T150428Z
UID:2301-1727982000-1727982000@langsidebadminton.co.uk
SUMMARY:2nd Mixed: Orchardhill v Greenbank
DESCRIPTION:
URL:https://langsidebadminton.co.uk/event/2nd-mixed-orchardhill-v-greenbank
LOCATION:Orchardhill Parish Church\, Memorial Halls\, 12 Church Road\, Giffnock\, East Renfrewshire\, G46 6JR\, United Kingdom
CATEGORIES:2nd Mixed Division,Greenbank,Orchardhill
ORGANIZER;CN="Langside Badminton League":MAILTO:contact@langsidebadminton.co.uk
END:VEVENT
BEGIN:VEVENT
DTSTART;TZID=UTC:20241002T190000
DTEND;TZID=UTC:20241002T190000
DTSTAMP:20260422T110040
CREATED:20240818T145047Z
LAST-MODIFIED:20240818T145047Z
UID:2275-1727895600-1727895600@langsidebadminton.co.uk
SUMMARY:1st Mixed: Old Parish v Eaglesham
DESCRIPTION:
URL:https://langsidebadminton.co.uk/event/1st-mixed-old-parish-v-eaglesham-2
LOCATION:Old Parish Church\, 43 Glebe Street\, East Kilbride\, G74 4LY\, United Kingdom
CATEGORIES:1st Mixed Division,Eaglesham,Old Parish
ORGANIZER;CN="Langside Badminton League":MAILTO:contact@langsidebadminton.co.uk
END:VEVENT
BEGIN:VEVENT
DTSTART;TZID=UTC:20240422T190000
DTEND;TZID=UTC:20240422T190000
DTSTAMP:20260422T110040
CREATED:20230908T142038Z
LAST-MODIFIED:20240225T100644Z
UID:1811-1713812400-1713812400@langsidebadminton.co.uk
SUMMARY:2nd Mixed: Shawlands v Old Parish
DESCRIPTION:
URL:https://langsidebadminton.co.uk/event/2nd-mixed-shawlands-v-old-parish
LOCATION:Shawlands Trinity Parish Church\, 5 Moss-side Road\, Shawlands\, G41 3TP\, United Kingdom
CATEGORIES:2nd Mixed Division,Old Parish,Shawlands Trinity
ORGANIZER;CN="Langside Badminton League":MAILTO:contact@langsidebadminton.co.uk
END:VEVENT
BEGIN:VEVENT
DTSTART;TZID=UTC:20240409T190000
DTEND;TZID=UTC:20240409T190000
DTSTAMP:20260422T110040
CREATED:20230908T143915Z
LAST-MODIFIED:20240301T082121Z
UID:1853-1712689200-1712689200@langsidebadminton.co.uk
SUMMARY:2nd Mixed: Newlands v Greenbank
DESCRIPTION:
URL:https://langsidebadminton.co.uk/event/2nd-mixed-newlands-v-greenbank
LOCATION:Newlands South Parish Church\, McMillan Hall\, 37 Riverside Road\, Newlands\, G43 2EG\, United Kingdom
CATEGORIES:2nd Mixed Division,Greenbank,Newlands South
ORGANIZER;CN="Langside Badminton League":MAILTO:contact@langsidebadminton.co.uk
END:VEVENT
BEGIN:VEVENT
DTSTART;TZID=UTC:20240402T190000
DTEND;TZID=UTC:20240402T190000
DTSTAMP:20260422T110040
CREATED:20230908T142906Z
LAST-MODIFIED:20240225T101315Z
UID:1829-1712084400-1712084400@langsidebadminton.co.uk
SUMMARY:2nd Mixed: Newlands v Old Parish
DESCRIPTION:
URL:https://langsidebadminton.co.uk/event/2nd-mixed-newlands-v-old-parish
LOCATION:Newlands South Parish Church\, McMillan Hall\, 37 Riverside Road\, Newlands\, G43 2EG\, United Kingdom
CATEGORIES:2nd Mixed Division,Newlands South,Old Parish
ORGANIZER;CN="Langside Badminton League":MAILTO:contact@langsidebadminton.co.uk
END:VEVENT
BEGIN:VEVENT
DTSTART;TZID=UTC:20240319T193000
DTEND;TZID=UTC:20240319T193000
DTSTAMP:20260422T110040
CREATED:20230908T135638Z
LAST-MODIFIED:20240214T141729Z
UID:1769-1710876600-1710876600@langsidebadminton.co.uk
SUMMARY:2nd Mixed: Greenbank v Old Parish
DESCRIPTION:
URL:https://langsidebadminton.co.uk/event/2nd-mixed-greenbank-v-old-parish
LOCATION:Greenbank Parish Church\, Giffnock South Parish Church\, 2 Greenhill Ave\, Giffnock\, G46 6QX\, United Kingdom
CATEGORIES:2nd Mixed Division,Greenbank,Old Parish
ORGANIZER;CN="Langside Badminton League":MAILTO:contact@langsidebadminton.co.uk
END:VEVENT
BEGIN:VEVENT
DTSTART;TZID=UTC:20240306T190000
DTEND;TZID=UTC:20240306T190000
DTSTAMP:20260422T110040
CREATED:20240220T085239Z
LAST-MODIFIED:20240220T085239Z
UID:2114-1709751600-1709751600@langsidebadminton.co.uk
SUMMARY:Southern Trophy SF: Eaglesham v Newlands South
DESCRIPTION:
URL:https://langsidebadminton.co.uk/event/southern-trophy-sf-eaglesham-v-newlands-south
LOCATION:Alistair McCoist Complex\, Quarry Road\, East Kilbride\, G75 9LW\, United Kingdom
CATEGORIES:Cup,Eaglesham,Newlands South,Southern Trophy
ORGANIZER;CN="Langside Badminton League":MAILTO:contact@langsidebadminton.co.uk
END:VEVENT
BEGIN:VEVENT
DTSTART;TZID=UTC:20240229T190000
DTEND;TZID=UTC:20240229T190000
DTSTAMP:20260422T110040
CREATED:20230908T143822Z
LAST-MODIFIED:20230908T143822Z
UID:1851-1709233200-1709233200@langsidebadminton.co.uk
SUMMARY:1st Mixed: Orchardhill v Newton Mearns
DESCRIPTION:
URL:https://langsidebadminton.co.uk/event/1st-mixed-orchardhill-v-newton-mearns
LOCATION:Orchardhill Parish Church\, Memorial Halls\, 12 Church Road\, Giffnock\, East Renfrewshire\, G46 6JR\, United Kingdom
CATEGORIES:1st Mixed Division,Newton Mearns,Orchardhill
ORGANIZER;CN="Langside Badminton League":MAILTO:contact@langsidebadminton.co.uk
END:VEVENT
BEGIN:VEVENT
DTSTART;TZID=UTC:20240226T190000
DTEND;TZID=UTC:20240226T190000
DTSTAMP:20260422T110040
CREATED:20240124T130357Z
LAST-MODIFIED:20240124T130357Z
UID:2104-1708974000-1708974000@langsidebadminton.co.uk
SUMMARY:Henderson Cup SF: Shawlands v Greenbank
DESCRIPTION:
URL:https://langsidebadminton.co.uk/event/henderson-cup-sf-shawlands-v-greenbank
LOCATION:Shawlands Trinity Parish Church\, 5 Moss-side Road\, Shawlands\, G41 3TP\, United Kingdom
CATEGORIES:Cup,Greenbank,Henderson Cup,Shawlands Trinity
ORGANIZER;CN="Langside Badminton League":MAILTO:contact@langsidebadminton.co.uk
END:VEVENT
BEGIN:VEVENT
DTSTART;TZID=UTC:20240221T190000
DTEND;TZID=UTC:20240221T190000
DTSTAMP:20260422T110040
CREATED:20230908T143434Z
LAST-MODIFIED:20230908T143434Z
UID:1841-1708542000-1708542000@langsidebadminton.co.uk
SUMMARY:2nd Mixed: Old Parish v Shawlands
DESCRIPTION:
URL:https://langsidebadminton.co.uk/event/2nd-mixed-old-parish-v-shawlands
LOCATION:Old Parish Church\, 43 Glebe Street\, East Kilbride\, G74 4LY\, United Kingdom
CATEGORIES:2nd Mixed Division,Old Parish,Shawlands Trinity
ORGANIZER;CN="Langside Badminton League":MAILTO:contact@langsidebadminton.co.uk
END:VEVENT
BEGIN:VEVENT
DTSTART;TZID=UTC:20240215T190000
DTEND;TZID=UTC:20240215T190000
DTSTAMP:20260422T110040
CREATED:20240117T150150Z
LAST-MODIFIED:20240117T150150Z
UID:2094-1708023600-1708023600@langsidebadminton.co.uk
SUMMARY:Henderson Cup SF: Orchardhill v Old Parish
DESCRIPTION:
URL:https://langsidebadminton.co.uk/event/henderson-cup-sf-orchardhill-v-old-parish
LOCATION:Orchardhill Parish Church\, Memorial Halls\, 12 Church Road\, Giffnock\, East Renfrewshire\, G46 6JR\, United Kingdom
CATEGORIES:Cup,Henderson Cup,Old Parish,Orchardhill
ORGANIZER;CN="Langside Badminton League":MAILTO:contact@langsidebadminton.co.uk
END:VEVENT
BEGIN:VEVENT
DTSTART;TZID=UTC:20240206T193000
DTEND;TZID=UTC:20240206T193000
DTSTAMP:20260422T110040
CREATED:20230908T143056Z
LAST-MODIFIED:20230909T083339Z
UID:1833-1707247800-1707247800@langsidebadminton.co.uk
SUMMARY:2nd Mixed: Greenbank v Shawlands
DESCRIPTION:
URL:https://langsidebadminton.co.uk/event/2nd-mixed-greenbank-v-shawlands
LOCATION:Greenbank Parish Church\, Giffnock South Parish Church\, 2 Greenhill Ave\, Giffnock\, G46 6QX\, United Kingdom
CATEGORIES:2nd Mixed Division,Greenbank,Shawlands Trinity
ORGANIZER;CN="Langside Badminton League":MAILTO:contact@langsidebadminton.co.uk
END:VEVENT
BEGIN:VEVENT
DTSTART;TZID=UTC:20240129T190000
DTEND;TZID=UTC:20240129T190000
DTSTAMP:20260422T110040
CREATED:20230908T142811Z
LAST-MODIFIED:20240122T085821Z
UID:1827-1706554800-1706554800@langsidebadminton.co.uk
SUMMARY:1st Mixed: Eaglesham v Orchardhill
DESCRIPTION:
URL:https://langsidebadminton.co.uk/event/1st-mixed-eaglesham-v-orchardhill
LOCATION:Stewartfield Community Centre\, 3 MacNeish Way\, East Kilbride\, South Lanarkshire\, G74 4TT\, United Kingdom
CATEGORIES:1st Mixed Division,Eaglesham,Orchardhill
ORGANIZER;CN="Langside Badminton League":MAILTO:contact@langsidebadminton.co.uk
END:VEVENT
BEGIN:VEVENT
DTSTART;TZID=UTC:20240117T190000
DTEND;TZID=UTC:20240117T190000
DTSTAMP:20260422T110040
CREATED:20230908T142459Z
LAST-MODIFIED:20230908T142459Z
UID:1821-1705518000-1705518000@langsidebadminton.co.uk
SUMMARY:2nd Mixed: Old Parish v Greenbank
DESCRIPTION:
URL:https://langsidebadminton.co.uk/event/2nd-mixed-old-parish-v-greenbank
LOCATION:Old Parish Church\, 43 Glebe Street\, East Kilbride\, G74 4LY\, United Kingdom
CATEGORIES:2nd Mixed Division,Greenbank,Old Parish
ORGANIZER;CN="Langside Badminton League":MAILTO:contact@langsidebadminton.co.uk
END:VEVENT
BEGIN:VEVENT
DTSTART;TZID=UTC:20240115T190000
DTEND;TZID=UTC:20240115T190000
DTSTAMP:20260422T110040
CREATED:20230908T142332Z
LAST-MODIFIED:20230908T142332Z
UID:1817-1705345200-1705345200@langsidebadminton.co.uk
SUMMARY:2nd Mixed: Shawlands v Newlands
DESCRIPTION:
URL:https://langsidebadminton.co.uk/event/2nd-mixed-shawlands-v-newlands
LOCATION:Shawlands Trinity Parish Church\, 5 Moss-side Road\, Shawlands\, G41 3TP\, United Kingdom
CATEGORIES:2nd Mixed Division,Newlands South,Shawlands Trinity
ORGANIZER;CN="Langside Badminton League":MAILTO:contact@langsidebadminton.co.uk
END:VEVENT
BEGIN:VEVENT
DTSTART;TZID=UTC:20240111T190000
DTEND;TZID=UTC:20240111T190000
DTSTAMP:20260422T110040
CREATED:20230908T142246Z
LAST-MODIFIED:20230908T142246Z
UID:1815-1704999600-1704999600@langsidebadminton.co.uk
SUMMARY:1st Mixed: Orchardhill v Netherlee
DESCRIPTION:
URL:https://langsidebadminton.co.uk/event/1st-mixed-orchardhill-v-netherlee
LOCATION:Orchardhill Parish Church\, Memorial Halls\, 12 Church Road\, Giffnock\, East Renfrewshire\, G46 6JR\, United Kingdom
CATEGORIES:1st Mixed Division,Netherlee,Orchardhill
ORGANIZER;CN="Langside Badminton League":MAILTO:contact@langsidebadminton.co.uk
END:VEVENT
BEGIN:VEVENT
DTSTART;TZID=UTC:20231213T190000
DTEND;TZID=UTC:20231213T190000
DTSTAMP:20260422T110040
CREATED:20231119T184052Z
LAST-MODIFIED:20231119T184052Z
UID:2029-1702494000-1702494000@langsidebadminton.co.uk
SUMMARY:Southern Trophy QF: Old Parish v Netherlee
DESCRIPTION:
URL:https://langsidebadminton.co.uk/event/southern-trophy-qf-old-parish-v-netherlee
LOCATION:Old Parish Church\, 43 Glebe Street\, East Kilbride\, G74 4LY\, United Kingdom
CATEGORIES:Cup,Netherlee,Old Parish,Southern Trophy
ORGANIZER;CN="Langside Badminton League":MAILTO:contact@langsidebadminton.co.uk
END:VEVENT
END:VCALENDAR