BEGIN:VCALENDAR
VERSION:2.0
PRODID:-//Langside Badminton League - ECPv6.15.20//NONSGML v1.0//EN
CALSCALE:GREGORIAN
METHOD:PUBLISH
X-ORIGINAL-URL:https://langsidebadminton.co.uk
X-WR-CALDESC:Events for Langside Badminton League
REFRESH-INTERVAL;VALUE=DURATION:PT1H
X-Robots-Tag:noindex
X-PUBLISHED-TTL:PT1H
BEGIN:VTIMEZONE
TZID:UTC
BEGIN:STANDARD
TZOFFSETFROM:+0000
TZOFFSETTO:+0000
TZNAME:UTC
DTSTART:20230101T000000
END:STANDARD
END:VTIMEZONE
BEGIN:VEVENT
DTSTART;TZID=UTC:20260421T190000
DTEND;TZID=UTC:20260421T190000
DTSTAMP:20260422T095432
CREATED:20250824T162829Z
LAST-MODIFIED:20260331T063953Z
UID:2600-1776798000-1776798000@langsidebadminton.co.uk
SUMMARY:2nd Mixed: Newlands v Orchardhill
DESCRIPTION:
URL:https://langsidebadminton.co.uk/event/2nd-mixed-newlands-v-orchardhill-2
LOCATION:Newlands South Parish Church\, McMillan Hall\, 37 Riverside Road\, Newlands\, G43 2EG\, United Kingdom
CATEGORIES:2nd Mixed Division,Newlands South,Orchardhill
ORGANIZER;CN="Langside Badminton League":MAILTO:contact@langsidebadminton.co.uk
END:VEVENT
BEGIN:VEVENT
DTSTART;TZID=UTC:20260318T191500
DTEND;TZID=UTC:20260318T191500
DTSTAMP:20260422T095432
CREATED:20250824T162614Z
LAST-MODIFIED:20260317T140633Z
UID:2596-1773861300-1773861300@langsidebadminton.co.uk
SUMMARY:2nd Mixed: Old Parish v Newlands
DESCRIPTION:
URL:https://langsidebadminton.co.uk/event/2nd-mixed-old-parish-v-newlands-2
LOCATION:Old Parish Church\, 43 Glebe Street\, East Kilbride\, G74 4LY\, United Kingdom
CATEGORIES:2nd Mixed Division,Newlands South,Old Parish
ORGANIZER;CN="Langside Badminton League":MAILTO:contact@langsidebadminton.co.uk
END:VEVENT
BEGIN:VEVENT
DTSTART;TZID=UTC:20260303T190000
DTEND;TZID=UTC:20260303T190000
DTSTAMP:20260422T095432
CREATED:20250824T163601Z
LAST-MODIFIED:20250824T163601Z
UID:2610-1772564400-1772564400@langsidebadminton.co.uk
SUMMARY:2nd Mixed: Newlands v Old Parish
DESCRIPTION:
URL:https://langsidebadminton.co.uk/event/2nd-mixed-newlands-v-old-parish-2
LOCATION:Newlands South Parish Church\, McMillan Hall\, 37 Riverside Road\, Newlands\, G43 2EG\, United Kingdom
CATEGORIES:2nd Mixed Division,Newlands South,Old Parish
ORGANIZER;CN="Langside Badminton League":MAILTO:contact@langsidebadminton.co.uk
END:VEVENT
BEGIN:VEVENT
DTSTART;TZID=UTC:20260204T191500
DTEND;TZID=UTC:20260204T191500
DTSTAMP:20260422T095432
CREATED:20250824T163349Z
LAST-MODIFIED:20250824T163349Z
UID:2606-1770232500-1770232500@langsidebadminton.co.uk
SUMMARY:2nd Mixed: Old Parish v Orchardhill
DESCRIPTION:
URL:https://langsidebadminton.co.uk/event/2nd-mixed-old-parish-v-orchardhill
LOCATION:Old Parish Church\, 43 Glebe Street\, East Kilbride\, G74 4LY\, United Kingdom
CATEGORIES:2nd Mixed Division,Old Parish,Orchardhill
ORGANIZER;CN="Langside Badminton League":MAILTO:contact@langsidebadminton.co.uk
END:VEVENT
BEGIN:VEVENT
DTSTART;TZID=UTC:20260121T190000
DTEND;TZID=UTC:20260121T190000
DTSTAMP:20260422T095432
CREATED:20251108T084417Z
LAST-MODIFIED:20251205T131528Z
UID:2756-1769022000-1769022000@langsidebadminton.co.uk
SUMMARY:Southern Trophy SF: Old Parish v Newton Mearns
DESCRIPTION:
URL:https://langsidebadminton.co.uk/event/southern-trophy-sf-old-parish-v-newton-mearns
LOCATION:Old Parish Church\, 43 Glebe Street\, East Kilbride\, G74 4LY\, United Kingdom
CATEGORIES:Cup,Newton Mearns,Old Parish,Southern Trophy
ORGANIZER;CN="Langside Badminton League":MAILTO:contact@langsidebadminton.co.uk
END:VEVENT
BEGIN:VEVENT
DTSTART;TZID=UTC:20260113T190000
DTEND;TZID=UTC:20260113T190000
DTSTAMP:20260422T095432
CREATED:20251108T084615Z
LAST-MODIFIED:20251205T131523Z
UID:2759-1768330800-1768330800@langsidebadminton.co.uk
SUMMARY:Henderson Cup SF: Newlands South v Orchardhill
DESCRIPTION:
URL:https://langsidebadminton.co.uk/event/henderson-cup-sf-newlands-south-v-orchardhill
LOCATION:Newlands South Parish Church\, McMillan Hall\, 37 Riverside Road\, Newlands\, G43 2EG\, United Kingdom
CATEGORIES:Cup,Henderson Cup,Newlands South,Orchardhill
ORGANIZER;CN="Langside Badminton League":MAILTO:contact@langsidebadminton.co.uk
END:VEVENT
BEGIN:VEVENT
DTSTART;TZID=UTC:20251113T190000
DTEND;TZID=UTC:20251113T190000
DTSTAMP:20260422T095432
CREATED:20250824T162211Z
LAST-MODIFIED:20251109T084518Z
UID:2590-1763060400-1763060400@langsidebadminton.co.uk
SUMMARY:2nd Mixed: Orchardhill v Newlands
DESCRIPTION:
URL:https://langsidebadminton.co.uk/event/2nd-mixed-orchardhill-v-newlands-2
LOCATION:Orchardhill Parish Church\, Memorial Halls\, 12 Church Road\, Giffnock\, East Renfrewshire\, G46 6JR\, United Kingdom
CATEGORIES:2nd Mixed Division,Newlands South,Orchardhill
ORGANIZER;CN="Langside Badminton League":MAILTO:contact@langsidebadminton.co.uk
END:VEVENT
BEGIN:VEVENT
DTSTART;TZID=UTC:20251106T190000
DTEND;TZID=UTC:20251106T190000
DTSTAMP:20260422T095432
CREATED:20250824T162458Z
LAST-MODIFIED:20250824T162458Z
UID:2594-1762455600-1762455600@langsidebadminton.co.uk
SUMMARY:2nd Mixed: Orchardhill v Old Parish
DESCRIPTION:
URL:https://langsidebadminton.co.uk/event/2nd-mixed-orchardhill-v-old-parish
LOCATION:Orchardhill Parish Church\, Memorial Halls\, 12 Church Road\, Giffnock\, East Renfrewshire\, G46 6JR\, United Kingdom
CATEGORIES:2nd Mixed Division,Old Parish,Orchardhill
ORGANIZER;CN="Langside Badminton League":MAILTO:contact@langsidebadminton.co.uk
END:VEVENT
BEGIN:VEVENT
DTSTART;TZID=UTC:20251030T190000
DTEND;TZID=UTC:20251030T190000
DTSTAMP:20260422T095432
CREATED:20250831T082727Z
LAST-MODIFIED:20250912T150419Z
UID:2673-1761850800-1761850800@langsidebadminton.co.uk
SUMMARY:Southern Trophy QF: Orchardhill v Newton Mearns
DESCRIPTION:
URL:https://langsidebadminton.co.uk/event/southern-trophy-qf-orchardhill-v-newton-mearns-2
LOCATION:Orchardhill Parish Church\, Memorial Halls\, 12 Church Road\, Giffnock\, East Renfrewshire\, G46 6JR\, United Kingdom
CATEGORIES:Cup,Newton Mearns,Orchardhill,Southern Trophy
ORGANIZER;CN="Langside Badminton League":MAILTO:contact@langsidebadminton.co.uk
END:VEVENT
BEGIN:VEVENT
DTSTART;TZID=UTC:20251029T191500
DTEND;TZID=UTC:20251029T191500
DTSTAMP:20260422T095432
CREATED:20250831T082355Z
LAST-MODIFIED:20250831T084603Z
UID:2667-1761765300-1761765300@langsidebadminton.co.uk
SUMMARY:Southern Trophy QF: Old Parish v Newlands
DESCRIPTION:
URL:https://langsidebadminton.co.uk/event/southern-trophy-qf-old-parish-v-newlands
LOCATION:Old Parish Church\, 43 Glebe Street\, East Kilbride\, G74 4LY\, United Kingdom
CATEGORIES:Cup,Newlands South,Old Parish,Southern Trophy
ORGANIZER;CN="Langside Badminton League":MAILTO:contact@langsidebadminton.co.uk
END:VEVENT
BEGIN:VEVENT
DTSTART;TZID=UTC:20250422T190000
DTEND;TZID=UTC:20250422T190000
DTSTAMP:20260422T095432
CREATED:20240818T150745Z
LAST-MODIFIED:20250613T144142Z
UID:2309-1745348400-1745348400@langsidebadminton.co.uk
SUMMARY:2nd Mixed: Newlands v Greenbank
DESCRIPTION:
URL:https://langsidebadminton.co.uk/event/2nd-mixed-newlands-v-greenbank-2
LOCATION:Newlands South Parish Church\, McMillan Hall\, 37 Riverside Road\, Newlands\, G43 2EG\, United Kingdom
CATEGORIES:2nd Mixed Division,Greenbank,Newlands South
ORGANIZER;CN="Langside Badminton League":MAILTO:contact@langsidebadminton.co.uk
END:VEVENT
BEGIN:VEVENT
DTSTART;TZID=UTC:20250327T190000
DTEND;TZID=UTC:20250327T210000
DTSTAMP:20260422T095432
CREATED:20250203T190140Z
LAST-MODIFIED:20250203T190140Z
UID:2490-1743102000-1743109200@langsidebadminton.co.uk
SUMMARY:2025 Henderson Cup Final: Old Parish v Shawlands
DESCRIPTION:
URL:https://langsidebadminton.co.uk/event/2025-henderson-cup-final-old-parish-v-shawlands
LOCATION:Alistair McCoist Complex\, Quarry Road\, East Kilbride\, G75 9LW\, United Kingdom
CATEGORIES:Cup,Henderson Cup,Old Parish,Shawlands Trinity
ORGANIZER;CN="Langside Badminton League":MAILTO:contact@langsidebadminton.co.uk
END:VEVENT
BEGIN:VEVENT
DTSTART;TZID=UTC:20250325T190000
DTEND;TZID=UTC:20250325T190000
DTSTAMP:20260422T095432
CREATED:20240818T151244Z
LAST-MODIFIED:20250304T101004Z
UID:2321-1742929200-1742929200@langsidebadminton.co.uk
SUMMARY:2nd Mixed: Greenbank v Newlands
DESCRIPTION:Match rearranged from Tuesday 4 March following request from Newlands\, agreed by Greenbank. 
URL:https://langsidebadminton.co.uk/event/2nd-mixed-greenbank-v-newlands-2
LOCATION:Greenbank Parish Church\, Giffnock South Parish Church\, 2 Greenhill Ave\, Giffnock\, G46 6QX\, United Kingdom
CATEGORIES:2nd Mixed Division,Greenbank,Newlands South
ORGANIZER;CN="Langside Badminton League":MAILTO:contact@langsidebadminton.co.uk
END:VEVENT
BEGIN:VEVENT
DTSTART;TZID=UTC:20250319T190000
DTEND;TZID=UTC:20250319T190000
DTSTAMP:20260422T095432
CREATED:20240818T145515Z
LAST-MODIFIED:20250311T081748Z
UID:2285-1742410800-1742410800@langsidebadminton.co.uk
SUMMARY:1st Mixed: Old Parish v Newton Mearns
DESCRIPTION:
URL:https://langsidebadminton.co.uk/event/1st-mixed-old-parish-v-newton-mearns
LOCATION:Old Parish Church\, 43 Glebe Street\, East Kilbride\, G74 4LY\, United Kingdom
CATEGORIES:1st Mixed Division,Newton Mearns,Old Parish
ORGANIZER;CN="Langside Badminton League":MAILTO:contact@langsidebadminton.co.uk
END:VEVENT
BEGIN:VEVENT
DTSTART;TZID=UTC:20250304T190000
DTEND;TZID=UTC:20250304T190000
DTSTAMP:20260422T095432
CREATED:20240818T150115Z
LAST-MODIFIED:20240818T150115Z
UID:2297-1741114800-1741114800@langsidebadminton.co.uk
SUMMARY:1st Mixed: Newton Mearns v Old Parish
DESCRIPTION:
URL:https://langsidebadminton.co.uk/event/1st-mixed-newton-mearns-v-old-parish
LOCATION:Newton Mearns Parish Church\, Mackinlay Place\, Newton Mearns\, G77 6EZ\, United Kingdom
CATEGORIES:1st Mixed Division,Newton Mearns,Old Parish
ORGANIZER;CN="Langside Badminton League":MAILTO:contact@langsidebadminton.co.uk
END:VEVENT
BEGIN:VEVENT
DTSTART;TZID=UTC:20250303T190000
DTEND;TZID=UTC:20250303T190000
DTSTAMP:20260422T095432
CREATED:20240818T151337Z
LAST-MODIFIED:20241104T220246Z
UID:2323-1741028400-1741028400@langsidebadminton.co.uk
SUMMARY:2nd Mixed: Shawlands v Orchardhill
DESCRIPTION:
URL:https://langsidebadminton.co.uk/event/2nd-mixed-shawlands-v-orchardhill
LOCATION:Shawlands Trinity Parish Church\, 5 Moss-side Road\, Shawlands\, G41 3TP\, United Kingdom
CATEGORIES:2nd Mixed Division,Orchardhill,Shawlands Trinity
ORGANIZER;CN="Langside Badminton League":MAILTO:contact@langsidebadminton.co.uk
END:VEVENT
BEGIN:VEVENT
DTSTART;TZID=UTC:20250206T190000
DTEND;TZID=UTC:20250206T190000
DTSTAMP:20260422T095432
CREATED:20240818T151155Z
LAST-MODIFIED:20240818T151155Z
UID:2319-1738868400-1738868400@langsidebadminton.co.uk
SUMMARY:2nd Mixed: Orchardhill v Newlands
DESCRIPTION:
URL:https://langsidebadminton.co.uk/event/2nd-mixed-orchardhill-v-newlands
LOCATION:Orchardhill Parish Church\, Memorial Halls\, 12 Church Road\, Giffnock\, East Renfrewshire\, G46 6JR\, United Kingdom
CATEGORIES:2nd Mixed Division,Newlands South,Orchardhill
ORGANIZER;CN="Langside Badminton League":MAILTO:contact@langsidebadminton.co.uk
END:VEVENT
BEGIN:VEVENT
DTSTART;TZID=UTC:20250205T080000
DTEND;TZID=UTC:20250205T170000
DTSTAMP:20260422T095432
CREATED:20240818T145932Z
LAST-MODIFIED:20240818T145932Z
UID:2293-1738742400-1738774800@langsidebadminton.co.uk
SUMMARY:1st Mixed: Old Parish v Netherlee
DESCRIPTION:
URL:https://langsidebadminton.co.uk/event/1st-mixed-old-parish-v-netherlee-2
LOCATION:Old Parish Church\, 43 Glebe Street\, East Kilbride\, G74 4LY\, United Kingdom
CATEGORIES:1st Mixed Division,Netherlee,Old Parish
ORGANIZER;CN="Langside Badminton League":MAILTO:contact@langsidebadminton.co.uk
END:VEVENT
BEGIN:VEVENT
DTSTART;TZID=UTC:20250204T190000
DTEND;TZID=UTC:20250204T190000
DTSTAMP:20260422T095432
CREATED:20240818T150657Z
LAST-MODIFIED:20241108T103619Z
UID:2307-1738695600-1738695600@langsidebadminton.co.uk
SUMMARY:2nd Mixed: Newlands v Orchardhill
DESCRIPTION:
URL:https://langsidebadminton.co.uk/event/2nd-mixed-newlands-v-orchardhill
LOCATION:Newlands South Parish Church\, McMillan Hall\, 37 Riverside Road\, Newlands\, G43 2EG\, United Kingdom
CATEGORIES:2nd Mixed Division,Newlands South,Orchardhill
ORGANIZER;CN="Langside Badminton League":MAILTO:contact@langsidebadminton.co.uk
END:VEVENT
BEGIN:VEVENT
DTSTART;TZID=UTC:20250203T190000
DTEND;TZID=UTC:20250203T190000
DTSTAMP:20260422T095432
CREATED:20240818T151110Z
LAST-MODIFIED:20241104T220251Z
UID:2317-1738609200-1738609200@langsidebadminton.co.uk
SUMMARY:2nd Mixed: Shawlands v Greenbank
DESCRIPTION:
URL:https://langsidebadminton.co.uk/event/2nd-mixed-shawlands-v-greenbank-2
LOCATION:Shawlands Trinity Parish Church\, 5 Moss-side Road\, Shawlands\, G41 3TP\, United Kingdom
CATEGORIES:2nd Mixed Division,Greenbank,Shawlands Trinity
ORGANIZER;CN="Langside Badminton League":MAILTO:contact@langsidebadminton.co.uk
END:VEVENT
BEGIN:VEVENT
DTSTART;TZID=UTC:20250130T190000
DTEND;TZID=UTC:20250130T190000
DTSTAMP:20260422T095432
CREATED:20241129T154600Z
LAST-MODIFIED:20241129T154600Z
UID:2462-1738263600-1738263600@langsidebadminton.co.uk
SUMMARY:Henderson Cup SF: Orchardhill v Shawlands Trinity
DESCRIPTION:
URL:https://langsidebadminton.co.uk/event/henderson-cup-sf-orchardhill-v-shawlands-trinity
LOCATION:Orchardhill Parish Church\, Memorial Halls\, 12 Church Road\, Giffnock\, East Renfrewshire\, G46 6JR\, United Kingdom
CATEGORIES:Cup,Henderson Cup,Orchardhill,Shawlands Trinity
ORGANIZER;CN="Langside Badminton League":MAILTO:contact@langsidebadminton.co.uk
END:VEVENT
BEGIN:VEVENT
DTSTART;TZID=UTC:20250128T190000
DTEND;TZID=UTC:20250128T190000
DTSTAMP:20260422T095432
CREATED:20241129T154505Z
LAST-MODIFIED:20241129T154505Z
UID:2460-1738090800-1738090800@langsidebadminton.co.uk
SUMMARY:Henderson Cup SF: Greenbank v Old Parish
DESCRIPTION:
URL:https://langsidebadminton.co.uk/event/henderson-cup-sf-greenbank-v-old-parish
LOCATION:Greenbank Parish Church\, Giffnock South Parish Church\, 2 Greenhill Ave\, Giffnock\, G46 6QX\, United Kingdom
CATEGORIES:Cup,Greenbank,Henderson Cup,Old Parish
ORGANIZER;CN="Langside Badminton League":MAILTO:contact@langsidebadminton.co.uk
END:VEVENT
BEGIN:VEVENT
DTSTART;TZID=UTC:20250128T190000
DTEND;TZID=UTC:20250128T190000
DTSTAMP:20260422T095432
CREATED:20241129T154313Z
LAST-MODIFIED:20241129T154313Z
UID:2456-1738090800-1738090800@langsidebadminton.co.uk
SUMMARY:Southern Trophy SF: Newlands South v Eaglesham
DESCRIPTION:
URL:https://langsidebadminton.co.uk/event/southern-trophy-sf-newlands-south-v-eaglesham
LOCATION:Newlands South Parish Church\, McMillan Hall\, 37 Riverside Road\, Newlands\, G43 2EG\, United Kingdom
CATEGORIES:Cup,Eaglesham,Newlands South,Southern Trophy
ORGANIZER;CN="Langside Badminton League":MAILTO:contact@langsidebadminton.co.uk
END:VEVENT
BEGIN:VEVENT
DTSTART;TZID=UTC:20250114T190000
DTEND;TZID=UTC:20250114T190000
DTSTAMP:20260422T095432
CREATED:20240818T151021Z
LAST-MODIFIED:20240818T151021Z
UID:2315-1736881200-1736881200@langsidebadminton.co.uk
SUMMARY:2nd Mixed: Newlands v Shawlands
DESCRIPTION:
URL:https://langsidebadminton.co.uk/event/2nd-mixed-newlands-v-shawlands
LOCATION:Newlands South Parish Church\, McMillan Hall\, 37 Riverside Road\, Newlands\, G43 2EG\, United Kingdom
CATEGORIES:2nd Mixed Division,Newlands South,Shawlands Trinity
ORGANIZER;CN="Langside Badminton League":MAILTO:contact@langsidebadminton.co.uk
END:VEVENT
BEGIN:VEVENT
DTSTART;TZID=UTC:20250114T190000
DTEND;TZID=UTC:20250114T190000
DTSTAMP:20260422T095432
CREATED:20240818T150929Z
LAST-MODIFIED:20240818T150929Z
UID:2313-1736881200-1736881200@langsidebadminton.co.uk
SUMMARY:2nd Mixed: Greenbank v Orchardhill
DESCRIPTION:
URL:https://langsidebadminton.co.uk/event/2nd-mixed-greenbank-v-orchardhill
LOCATION:Greenbank Parish Church\, Giffnock South Parish Church\, 2 Greenhill Ave\, Giffnock\, G46 6QX\, United Kingdom
CATEGORIES:2nd Mixed Division,Greenbank,Orchardhill
ORGANIZER;CN="Langside Badminton League":MAILTO:contact@langsidebadminton.co.uk
END:VEVENT
BEGIN:VEVENT
DTSTART;TZID=UTC:20250113T190000
DTEND;TZID=UTC:20250113T210000
DTSTAMP:20260422T095432
CREATED:20240818T145604Z
LAST-MODIFIED:20241005T094534Z
UID:2287-1736794800-1736802000@langsidebadminton.co.uk
SUMMARY:1st Mixed: Eaglesham v Old Parish
DESCRIPTION:
URL:https://langsidebadminton.co.uk/event/1st-mixed-eaglesham-v-old-parish-2
LOCATION:Alistair McCoist Complex\, Quarry Road\, East Kilbride\, G75 9LW\, United Kingdom
CATEGORIES:1st Mixed Division,Eaglesham,Old Parish
ORGANIZER;CN="Langside Badminton League":MAILTO:contact@langsidebadminton.co.uk
END:VEVENT
BEGIN:VEVENT
DTSTART;TZID=UTC:20241205T190000
DTEND;TZID=UTC:20241205T190000
DTSTAMP:20260422T095432
CREATED:20240818T150839Z
LAST-MODIFIED:20240818T150839Z
UID:2311-1733425200-1733425200@langsidebadminton.co.uk
SUMMARY:2nd Mixed: Orchardhill v Shawlands
DESCRIPTION:
URL:https://langsidebadminton.co.uk/event/2nd-mixed-orchardhill-v-shawlands
LOCATION:Orchardhill Parish Church\, Memorial Halls\, 12 Church Road\, Giffnock\, East Renfrewshire\, G46 6JR\, United Kingdom
CATEGORIES:2nd Mixed Division,Orchardhill,Shawlands Trinity
ORGANIZER;CN="Langside Badminton League":MAILTO:contact@langsidebadminton.co.uk
END:VEVENT
BEGIN:VEVENT
DTSTART;TZID=UTC:20241128T190000
DTEND;TZID=UTC:20241128T190000
DTSTAMP:20260422T095432
CREATED:20240817T192149Z
LAST-MODIFIED:20241120T083803Z
UID:2252-1732820400-1732820400@langsidebadminton.co.uk
SUMMARY:Southern Trophy QF: Orchardhill v Netherlee
DESCRIPTION:
URL:https://langsidebadminton.co.uk/event/southern-trophy-qf-orchardhill-v-netherlee
LOCATION:Orchardhill Parish Church\, Memorial Halls\, 12 Church Road\, Giffnock\, East Renfrewshire\, G46 6JR\, United Kingdom
CATEGORIES:Cup,Netherlee,Orchardhill,Southern Trophy
ORGANIZER;CN="Langside Badminton League":MAILTO:contact@langsidebadminton.co.uk
END:VEVENT
BEGIN:VEVENT
DTSTART;TZID=UTC:20241120T190000
DTEND;TZID=UTC:20241120T190000
DTSTAMP:20260422T095432
CREATED:20240817T192048Z
LAST-MODIFIED:20240817T192449Z
UID:2250-1732129200-1732129200@langsidebadminton.co.uk
SUMMARY:Southern Trophy QF: Old Parish v Newlands South
DESCRIPTION:
URL:https://langsidebadminton.co.uk/event/southern-trophy-qf-old-parish-v-newlands-south
LOCATION:Old Parish Church\, 43 Glebe Street\, East Kilbride\, G74 4LY\, United Kingdom
CATEGORIES:Cup,Newlands South,Old Parish,Southern Trophy
ORGANIZER;CN="Langside Badminton League":MAILTO:contact@langsidebadminton.co.uk
END:VEVENT
BEGIN:VEVENT
DTSTART;TZID=UTC:20241119T190000
DTEND;TZID=UTC:20241119T190000
DTSTAMP:20260422T095432
CREATED:20240817T191802Z
LAST-MODIFIED:20240817T192434Z
UID:2247-1732042800-1732042800@langsidebadminton.co.uk
SUMMARY:Southern Trophy QF: Greenbank v Eaglesham
DESCRIPTION:
URL:https://langsidebadminton.co.uk/event/southern-trophy-qf-greenbank-v-eaglesham
LOCATION:Greenbank Parish Church\, Giffnock South Parish Church\, 2 Greenhill Ave\, Giffnock\, G46 6QX\, United Kingdom
CATEGORIES:Cup,Eaglesham,Greenbank,Southern Trophy
ORGANIZER;CN="Langside Badminton League":MAILTO:contact@langsidebadminton.co.uk
END:VEVENT
END:VCALENDAR