BEGIN:VCALENDAR
VERSION:2.0
PRODID:-//Langside Badminton League - ECPv6.15.20//NONSGML v1.0//EN
CALSCALE:GREGORIAN
METHOD:PUBLISH
X-ORIGINAL-URL:https://langsidebadminton.co.uk
X-WR-CALDESC:Events for Langside Badminton League
REFRESH-INTERVAL;VALUE=DURATION:PT1H
X-Robots-Tag:noindex
X-PUBLISHED-TTL:PT1H
BEGIN:VTIMEZONE
TZID:UTC
BEGIN:STANDARD
TZOFFSETFROM:+0000
TZOFFSETTO:+0000
TZNAME:UTC
DTSTART:20220101T000000
END:STANDARD
END:VTIMEZONE
BEGIN:VEVENT
DTSTART;TZID=UTC:20231101T190000
DTEND;TZID=UTC:20231101T190000
DTSTAMP:20260425T131937
CREATED:20230908T140753Z
LAST-MODIFIED:20230908T140753Z
UID:1785-1698865200-1698865200@langsidebadminton.co.uk
SUMMARY:2nd Mixed: Old Parish v Newlands
DESCRIPTION:
URL:https://langsidebadminton.co.uk/event/2nd-mixed-old-parish-v-newlands
LOCATION:Old Parish Church\, 43 Glebe Street\, East Kilbride\, G74 4LY\, United Kingdom
CATEGORIES:2nd Mixed Division,Newlands South,Old Parish
ORGANIZER;CN="Langside Badminton League":MAILTO:contact@langsidebadminton.co.uk
END:VEVENT
BEGIN:VEVENT
DTSTART;TZID=UTC:20231120T190000
DTEND;TZID=UTC:20231120T190000
DTSTAMP:20260425T131937
CREATED:20230908T141250Z
LAST-MODIFIED:20230912T150855Z
UID:1795-1700506800-1700506800@langsidebadminton.co.uk
SUMMARY:2nd Mixed: Shawlands v Greenbank
DESCRIPTION:
URL:https://langsidebadminton.co.uk/event/2nd-mixed-shawlands-v-greenbank
LOCATION:Shawlands Trinity Parish Church\, 5 Moss-side Road\, Shawlands\, G41 3TP\, United Kingdom
CATEGORIES:2nd Mixed Division,Greenbank,Shawlands Trinity
ORGANIZER;CN="Langside Badminton League":MAILTO:contact@langsidebadminton.co.uk
END:VEVENT
BEGIN:VEVENT
DTSTART;TZID=UTC:20231123T190000
DTEND;TZID=UTC:20231123T190000
DTSTAMP:20260425T131937
CREATED:20230908T141135Z
LAST-MODIFIED:20230915T110754Z
UID:1793-1700766000-1700766000@langsidebadminton.co.uk
SUMMARY:1st Mixed: Orchardhill v Eaglesham
DESCRIPTION:
URL:https://langsidebadminton.co.uk/event/1st-mixed-orchardhill-v-eaglesham
LOCATION:Orchardhill Parish Church\, Memorial Halls\, 12 Church Road\, Giffnock\, East Renfrewshire\, G46 6JR\, United Kingdom
CATEGORIES:1st Mixed Division,Eaglesham,Orchardhill
ORGANIZER;CN="Langside Badminton League":MAILTO:contact@langsidebadminton.co.uk
END:VEVENT
BEGIN:VEVENT
DTSTART;TZID=UTC:20231130T190000
DTEND;TZID=UTC:20231130T190000
DTSTAMP:20260425T131937
CREATED:20231105T121631Z
LAST-MODIFIED:20231105T121631Z
UID:2021-1701370800-1701370800@langsidebadminton.co.uk
SUMMARY:Southern Trophy QF: Orchardhill v Newton Mearns
DESCRIPTION:
URL:https://langsidebadminton.co.uk/event/southern-trophy-qf-orchardhill-v-newton-mearns
LOCATION:Orchardhill Parish Church\, Memorial Halls\, 12 Church Road\, Giffnock\, East Renfrewshire\, G46 6JR\, United Kingdom
CATEGORIES:Cup,Newton Mearns,Orchardhill,Southern Trophy
ORGANIZER;CN="Langside Badminton League":MAILTO:contact@langsidebadminton.co.uk
END:VEVENT
END:VCALENDAR