BEGIN:VCALENDAR
VERSION:2.0
PRODID:-//Langside Badminton League - ECPv6.15.20//NONSGML v1.0//EN
CALSCALE:GREGORIAN
METHOD:PUBLISH
X-WR-CALNAME:Langside Badminton League
X-ORIGINAL-URL:https://langsidebadminton.co.uk
X-WR-CALDESC:Events for Langside Badminton League
REFRESH-INTERVAL;VALUE=DURATION:PT1H
X-Robots-Tag:noindex
X-PUBLISHED-TTL:PT1H
BEGIN:VTIMEZONE
TZID:UTC
BEGIN:STANDARD
TZOFFSETFROM:+0000
TZOFFSETTO:+0000
TZNAME:UTC
DTSTART:20220101T000000
END:STANDARD
END:VTIMEZONE
BEGIN:VEVENT
DTSTART;TZID=UTC:20231002T190000
DTEND;TZID=UTC:20231002T190000
DTSTAMP:20260425T104346
CREATED:20230908T135430Z
LAST-MODIFIED:20230908T140038Z
UID:1764-1696273200-1696273200@langsidebadminton.co.uk
SUMMARY:1st Mixed: Eaglesham v Newton Mearns
DESCRIPTION:
URL:https://langsidebadminton.co.uk/event/mixed-1st-eaglesham-v-newton-mearns
CATEGORIES:1st Mixed Division,Eaglesham,Newton Mearns
ORGANIZER;CN="Langside Badminton League":MAILTO:contact@langsidebadminton.co.uk
END:VEVENT
BEGIN:VEVENT
DTSTART;TZID=UTC:20231003T190000
DTEND;TZID=UTC:20231003T190000
DTSTAMP:20260425T104346
CREATED:20230908T135527Z
LAST-MODIFIED:20230908T140044Z
UID:1766-1696359600-1696359600@langsidebadminton.co.uk
SUMMARY:2nd Mixed: Newlands South v Shawlands Trinity
DESCRIPTION:
URL:https://langsidebadminton.co.uk/event/2nd-mixed-newlands-south-v-shawlands-trinity-2
LOCATION:Newlands South Parish Church\, McMillan Hall\, 37 Riverside Road\, Newlands\, G43 2EG\, United Kingdom
CATEGORIES:2nd Mixed Division,Newlands South,Shawlands Trinity
ORGANIZER;CN="Langside Badminton League":MAILTO:contact@langsidebadminton.co.uk
END:VEVENT
BEGIN:VEVENT
DTSTART;TZID=UTC:20231021T140000
DTEND;TZID=UTC:20231021T140000
DTSTAMP:20260425T104346
CREATED:20230908T140558Z
LAST-MODIFIED:20240310T145853Z
UID:1781-1697896800-1697896800@langsidebadminton.co.uk
SUMMARY:1st Mixed: Netherlee v Orchardhill
DESCRIPTION:
URL:https://langsidebadminton.co.uk/event/1st-mixed-netherlee-v-orchardhill
LOCATION:Netherlee Parish Church\, Ormonde Avenue\, Netherlee\, G44 3SL\, United Kingdom
CATEGORIES:1st Mixed Division,Netherlee,Orchardhill
ORGANIZER;CN="Langside Badminton League":MAILTO:contact@langsidebadminton.co.uk
END:VEVENT
END:VCALENDAR