BEGIN:VCALENDAR
VERSION:2.0
PRODID:-//Langside Badminton League - ECPv6.15.20//NONSGML v1.0//EN
CALSCALE:GREGORIAN
METHOD:PUBLISH
X-ORIGINAL-URL:https://langsidebadminton.co.uk
X-WR-CALDESC:Events for Langside Badminton League
REFRESH-INTERVAL;VALUE=DURATION:PT1H
X-Robots-Tag:noindex
X-PUBLISHED-TTL:PT1H
BEGIN:VTIMEZONE
TZID:UTC
BEGIN:STANDARD
TZOFFSETFROM:+0000
TZOFFSETTO:+0000
TZNAME:UTC
DTSTART:20240101T000000
END:STANDARD
END:VTIMEZONE
BEGIN:VEVENT
DTSTART;TZID=UTC:20251008T191500
DTEND;TZID=UTC:20251008T191500
DTSTAMP:20260421T144812
CREATED:20250824T164125Z
LAST-MODIFIED:20250824T164125Z
UID:2612-1759950900-1759950900@langsidebadminton.co.uk
SUMMARY:Women's: Old Parish/Eaglesham v Shawlands/Newlands
DESCRIPTION:
URL:https://langsidebadminton.co.uk/event/womens-old-parish-eaglesham-v-shawlands-newlands-2
LOCATION:Old Parish Church\, 43 Glebe Street\, East Kilbride\, G74 4LY\, United Kingdom
CATEGORIES:Eaglesham/Old Parish Ladies,Newlands/Shawlands Ladies,Women's
ORGANIZER;CN="Langside Badminton League":MAILTO:contact@langsidebadminton.co.uk
END:VEVENT
END:VCALENDAR